BEGIN:VCALENDAR
VERSION:2.0
PRODID:-//ChamberMaster//Event Calendar 2.0//EN
METHOD:PUBLISH
X-PUBLISHED-TTL:P3D
REFRESH-INTERVAL:P3D
CALSCALE:GREGORIAN
BEGIN:VEVENT
DTSTART:20060805T050000Z
DTEND:20060805T050000Z
X-MICROSOFT-CDO-ALLDAYEVENT:FALSE
SUMMARY:Kid's Fishing Derby
DESCRIPTION:
X-ALT-DESC;FMTTYPE=text/html:
LOCATION:Park Rapids\, MN
UID:e.91.57
SEQUENCE:3
DTSTAMP:20260420T122117Z
URL:https://business.parkrapids.com/events/details/kid-s-fishing-derby-08-05-2006-57
END:VEVENT

END:VCALENDAR
