BEGIN:VCALENDAR
VERSION:2.0
PRODID:-//ChamberMaster//Event Calendar 2.0//EN
METHOD:PUBLISH
X-PUBLISHED-TTL:P3D
REFRESH-INTERVAL:P3D
CALSCALE:GREGORIAN
BEGIN:VEVENT
DTSTART:20060922T050000Z
DTEND:20060922T050000Z
X-MICROSOFT-CDO-ALLDAYEVENT:FALSE
SUMMARY:Kinship Spaghetti Dinner
DESCRIPTION:The spaghetti dinner will be served from 5 - 8 p.m. at the Century\nElementary School on Helton Ave. and is $8 per person. The dinner is\nsponsored by Kinship of the park Rapids Area\, a mentoring program for\nchildren.  Bike ride registrations will be accepted at the dinner. For more\ninformation contact Carolyn Spangler 218 732 0058.
X-ALT-DESC;FMTTYPE=text/html:The spaghetti dinner will be served from 5 - 8 p.m. at the Century\nElementary School on Helton Ave. and is $8 per person. The dinner is\nsponsored by Kinship of the park Rapids Area\, a mentoring program for\nchildren.  Bike ride registrations will be accepted at the dinner. For more\ninformation contact Carolyn Spangler 218 732 0058.
LOCATION:Century School - Park Rapids
UID:e.91.85
SEQUENCE:3
DTSTAMP:20260420T104854Z
URL:https://business.parkrapids.com/events/details/kinship-spaghetti-dinner-09-22-2006-85
END:VEVENT

END:VCALENDAR
