BEGIN:VCALENDAR
VERSION:2.0
PRODID:-//ChamberMaster//Event Calendar 2.0//EN
METHOD:PUBLISH
X-PUBLISHED-TTL:P3D
REFRESH-INTERVAL:P3D
CALSCALE:GREGORIAN
BEGIN:VEVENT
DTSTART:20070727T050000Z
DTEND:20070729T050000Z
X-MICROSOFT-CDO-ALLDAYEVENT:FALSE
SUMMARY:Lake George Blueberry Festival
DESCRIPTION:Flea Market\, Arts & Craft Sale\, Quilt Show\, Outdoor gospel Concert\, Blueberry Ball\, Parade\, Pancake Breakfast.
X-ALT-DESC;FMTTYPE=text/html:Flea Market\, Arts & Craft Sale\, Quilt Show\, Outdoor gospel Concert\, Blueberry Ball\, Parade\, Pancake Breakfast.
LOCATION:Lake George\, MN
UID:e.91.54
SEQUENCE:3
DTSTAMP:20260419T175229Z
URL:https://business.parkrapids.com/events/details/lake-george-blueberry-festival-07-27-2007-54
END:VEVENT

END:VCALENDAR
