BEGIN:VCALENDAR
VERSION:2.0
PRODID:-//ChamberMaster//Event Calendar 2.0//EN
METHOD:PUBLISH
X-PUBLISHED-TTL:P3D
REFRESH-INTERVAL:P3D
CALSCALE:GREGORIAN
BEGIN:VEVENT
DTSTART:20070818T050000Z
DTEND:20070819T050000Z
X-MICROSOFT-CDO-ALLDAYEVENT:FALSE
SUMMARY:Lakes\, Loons & Legends Art and Music Festival
DESCRIPTION:Art & Craft Festival featuring high quality handcrafted by artist crafts\, Live Entertainment\, Street Dance featuring Kid Hollywood\, Beer Garden\, Large Food Court\, Loon Calling Contest\, Kids Activities\, located in beautiful downtown Park Rapids.
X-ALT-DESC;FMTTYPE=text/html:Art & Craft Festival featuring high quality handcrafted by artist crafts\, Live Entertainment\, Street Dance featuring Kid Hollywood\, Beer Garden\, Large Food Court\, Loon Calling Contest\, Kids Activities\, located in beautiful downtown Park Rapids. 
LOCATION:Main Street Park Rapids\, MN
UID:e.91.63
SEQUENCE:3
DTSTAMP:20260419T160947Z
URL:https://business.parkrapids.com/events/details/lakes-loons-legends-art-and-music-festival-08-18-2007-63
END:VEVENT

END:VCALENDAR
