BEGIN:VCALENDAR
VERSION:2.0
PRODID:-//ChamberMaster//Event Calendar 2.0//EN
METHOD:PUBLISH
X-PUBLISHED-TTL:P3D
REFRESH-INTERVAL:P3D
CALSCALE:GREGORIAN
BEGIN:VEVENT
DTSTART;VALUE=DATE:20240627
DTEND;VALUE=DATE:20240628
TRANSP:TRANSPARENT
X-MICROSOFT-CDO-ALLDAYEVENT:TRUE
SUMMARY:Legends of Country Music Show with the Dan Brekke Band
DESCRIPTION:Legends of Country Music with The Dan Brekke Band including Nashville artist Rob Muzick will be pickin' and fiddlin' to the music of country legends such as Charlie Daniels\, Johnny Cash\, Alabama\,Willie Nelson\, Roger Miller and more!  You'll also get to hear live performances of Dan's new singles out on Spotify and Apple Music. \n\n \n\nComedienne-Auntie Kreamsaugen will kick off the afternoon of fun with a pre-show!  Come Early!  \n\n \n\nTWO SHOWS ONLY! \n\n \n\nThursday\, June 27   2pm\n\n \n\nWednesday\, Sept. 4   2pm
X-ALT-DESC;FMTTYPE=text/html:<div>&nbsp\;</div>\n\n<div>Legends of Country Music with The Dan Brekke Band including Nashville artist Rob Muzick will be pickin&#39\; and fiddlin&#39\; to the music of country legends such as Charlie Daniels\, Johnny Cash\, Alabama\,Willie Nelson\, Roger Miller and more!&nbsp\; You&#39\;ll also get to hear live performances of Dan&#39\;s new singles out on Spotify and Apple Music.&nbsp\;</div>\n\n<div>&nbsp\;</div>\n\n<div>Comedienne-Auntie Kreamsaugen will kick off the afternoon of fun with a pre-show!&nbsp\; Come Early!&nbsp\;&nbsp\;</div>\n\n<div>&nbsp\;</div>\n\n<div>TWO SHOWS ONLY!&nbsp\;</div>\n\n<div>&nbsp\;</div>\n\n<div>Thursday\, June 27&nbsp\; &nbsp\;2pm</div>\n\n<div>&nbsp\;</div>\n\n<div>Wednesday\, Sept. 4&nbsp\; &nbsp\;2pm</div>\n
LOCATION:Jasper's Theater\, Park Rapids
UID:e.91.43980
SEQUENCE:3
DTSTAMP:20260420T112408Z
URL:https://business.parkrapids.com/events/details/legends-of-country-music-show-with-the-dan-brekke-band-43980
END:VEVENT

END:VCALENDAR
