BEGIN:VCALENDAR
VERSION:2.0
PRODID:-//ChamberMaster//Event Calendar 2.0//EN
METHOD:PUBLISH
X-PUBLISHED-TTL:P3D
REFRESH-INTERVAL:P3D
CALSCALE:GREGORIAN
BEGIN:VEVENT
DTSTART:20060812T050000Z
DTEND:20060812T050000Z
X-MICROSOFT-CDO-ALLDAYEVENT:FALSE
SUMMARY:Lindow/Companero's Golf Open
DESCRIPTION:
X-ALT-DESC;FMTTYPE=text/html:
LOCATION:Fairhavens Golf Course
UID:e.91.65
SEQUENCE:3
DTSTAMP:20260420T122213Z
URL:https://business.parkrapids.com/events/details/lindow-companero-s-golf-open-08-12-2006-65
END:VEVENT

END:VCALENDAR
