BEGIN:VCALENDAR
VERSION:2.0
PRODID:-//ChamberMaster//Event Calendar 2.0//EN
METHOD:PUBLISH
X-PUBLISHED-TTL:P3D
REFRESH-INTERVAL:P3D
CALSCALE:GREGORIAN
BEGIN:VEVENT
DTSTART;VALUE=DATE:20240626
DTEND;VALUE=DATE:20240627
TRANSP:TRANSPARENT
X-MICROSOFT-CDO-ALLDAYEVENT:TRUE
SUMMARY:Live Bald Eagle Presentation
DESCRIPTION:Live Bald Eagle Presentation at the Tamarac National Wildlife Refuge sponsored by the Becker County Museum at the Detroit Lakes Pavilion. Doors open at 6:00\, Presentation at 7:00. \n\nThere will be family activity booths hosted by local organizations including the Friends of Tamarac. Join us for some fun while learning about our national symbol at this free event.
X-ALT-DESC;FMTTYPE=text/html:<b style="color: rgb(0\, 0\, 0)\; font-family: Aptos\, Aptos_EmbeddedFont\, Aptos_MSFontService\, Calibri\, Helvetica\, sans-serif\; font-size: 16px\;">Live Bald Eagle Presentation at the Tamarac National Wildlife Refuge sponsored by the Becker County Museum at the Detroit Lakes Pavilion. Doors open at 6:00\, Presentation at 7:00.</b><span style="color: rgb(0\, 0\, 0)\; font-family: Aptos\, Aptos_EmbeddedFont\, Aptos_MSFontService\, Calibri\, Helvetica\, sans-serif\; font-size: 16px\;">&nbsp\;<br />\nThere will be family activity booths hosted by local organizations including the Friends of Tamarac. Join us for some fun while learning about our national symbol at this free event.&nbsp\; &nbsp\;</span>
LOCATION:Tamarac National Wildlife Refuge 35704 Cty Hwy 26 Rochert\, MN 56578 218-844-1756 Tamarac National Wildlife Refuge is located 9 miles north of the junction of County Hwy 34 and County Hwy 29
UID:e.91.44754
SEQUENCE:3
DTSTAMP:20260420T082153Z
URL:https://business.parkrapids.com/events/details/live-bald-eagle-presentation-44754
END:VEVENT

END:VCALENDAR
