BEGIN:VCALENDAR
VERSION:2.0
PRODID:-//ChamberMaster//Event Calendar 2.0//EN
METHOD:PUBLISH
X-PUBLISHED-TTL:P3D
REFRESH-INTERVAL:P3D
CALSCALE:GREGORIAN
BEGIN:VEVENT
DTSTART:20070821T050000Z
DTEND:20070821T050000Z
X-MICROSOFT-CDO-ALLDAYEVENT:FALSE
SUMMARY:Living at Home Antique Critique
DESCRIPTION:
X-ALT-DESC;FMTTYPE=text/html:
LOCATION:
UID:e.91.239
SEQUENCE:3
DTSTAMP:20260419T160850Z
URL:https://business.parkrapids.com/events/details/living-at-home-antique-critique-08-21-2007-239
END:VEVENT

END:VCALENDAR
