BEGIN:VCALENDAR
VERSION:2.0
PRODID:-//ChamberMaster//Event Calendar 2.0//EN
METHOD:PUBLISH
X-PUBLISHED-TTL:P3D
REFRESH-INTERVAL:P3D
CALSCALE:GREGORIAN
BEGIN:VEVENT
DTSTART:20060928T050000Z
DTEND:20060928T050000Z
X-MICROSOFT-CDO-ALLDAYEVENT:FALSE
SUMMARY:Living at Home Celebrity Dinner
DESCRIPTION:Enjoy a dinner served by  famous local ''celebrities'' as you support the Living at Home Program.  Our area's famous servers will provide the entertainment at this fundraiser for Living at Home.  Diners are encouraged to come ready to challenge the servers to provide a song\, a dance or to tell a (clean\, but funny) joke. This will be a fun and chaotic event - sure to bring a smile to everyone who participates.
X-ALT-DESC;FMTTYPE=text/html:Enjoy a dinner served by  famous local ''celebrities'' as you support the Living at Home Program.  Our area's famous servers will provide the entertainment at this fundraiser for Living at Home.  Diners are encouraged to come ready to challenge the servers to provide a song\, a dance or to tell a (clean\, but funny) joke. This will be a fun and chaotic event - sure to bring a smile to everyone who participates.
LOCATION:to be determined
UID:e.91.136
SEQUENCE:3
DTSTAMP:20260420T110417Z
URL:https://business.parkrapids.com/events/details/living-at-home-celebrity-dinner-09-28-2006-136
END:VEVENT

END:VCALENDAR
