BEGIN:VCALENDAR
VERSION:2.0
PRODID:-//ChamberMaster//Event Calendar 2.0//EN
METHOD:PUBLISH
X-PUBLISHED-TTL:P3D
REFRESH-INTERVAL:P3D
CALSCALE:GREGORIAN
BEGIN:VEVENT
DTSTART:20060519T050000Z
DTEND:20060519T050000Z
X-MICROSOFT-CDO-ALLDAYEVENT:FALSE
SUMMARY:LIving at Home RIb Dinner
DESCRIPTION:Our  rib dinner will be held at the American Legion on May 19th.  The Living at Home/Block Nurse/Interfaith Caregivers Program is cooking up their famous Barbequed Rib Dinner with baked potatoes\, coleslaw\, veggies and dessert.\n\nThe dinner will be served from 5:00 to 7:30 p.m.\, Friday\, May 19th at the American Legion in Park Rapids.\n\nTickets are $8 with children 3 to 10 $3.\n\nThis annual fundraiser benefits the Living At Home Program which enlists volunteers and other community resources to enable seniors to remain living in the home of their choice.  Each year Living At Home serves over 175 seniors utilizing 125 active volunteers who provide transportation\, respite care\, light housekeeping\, friendly visiting and lawn care.  Living at Home provides services in the Park Rapids\, Nevis\, Lake George and Osage areas.
X-ALT-DESC;FMTTYPE=text/html:Our  rib dinner will be held at the American Legion on May 19th.  The Living at Home/Block Nurse/Interfaith Caregivers Program is cooking up their famous Barbequed Rib Dinner with baked potatoes\, coleslaw\, veggies and dessert.\n\nThe dinner will be served from 5:00 to 7:30 p.m.\, Friday\, May 19th at the American Legion in Park Rapids.\n\nTickets are $8 with children 3 to 10 $3.\n\nThis annual fundraiser benefits the Living At Home Program which enlists volunteers and other community resources to enable seniors to remain living in the home of their choice.  Each year Living At Home serves over 175 seniors utilizing 125 active volunteers who provide transportation\, respite care\, light housekeeping\, friendly visiting and lawn care.  Living at Home provides services in the Park Rapids\, Nevis\, Lake George and Osage areas.\n
LOCATION:American Legion\, Park Rapids\, MN
UID:e.91.132
SEQUENCE:3
DTSTAMP:20260420T170839Z
URL:https://business.parkrapids.com/events/details/living-at-home-rib-dinner-05-19-2006-132
END:VEVENT

END:VCALENDAR
