BEGIN:VCALENDAR
VERSION:2.0
PRODID:-//ChamberMaster//Event Calendar 2.0//EN
METHOD:PUBLISH
X-PUBLISHED-TTL:P3D
REFRESH-INTERVAL:P3D
CALSCALE:GREGORIAN
BEGIN:VEVENT
DTSTART:20061020T050000Z
DTEND:20061020T050000Z
X-MICROSOFT-CDO-ALLDAYEVENT:FALSE
SUMMARY:Living at Home Rib Dinner
DESCRIPTION:Our  rib dinner will be held at the American Legion on October 20th.  The Living at Home/Block Nurse/Interfaith Caregivers Program is cooking up their famous Barbequed Rib Dinner with baked potatoes\, coleslaw\, veggies and dessert.\n\nThe dinner will be served from 5:00 to 7:30 p.m.\, Friday\, October 20th at the American Legion in Park Rapids.
X-ALT-DESC;FMTTYPE=text/html:Our  rib dinner will be held at the American Legion on October 20th.  The Living at Home/Block Nurse/Interfaith Caregivers Program is cooking up their famous Barbequed Rib Dinner with baked potatoes\, coleslaw\, veggies and dessert.\n\nThe dinner will be served from 5:00 to 7:30 p.m.\, Friday\, October 20th at the American Legion in Park Rapids.
LOCATION:American Legion Park Rapids
UID:e.91.135
SEQUENCE:3
DTSTAMP:20260420T091823Z
URL:https://business.parkrapids.com/events/details/living-at-home-rib-dinner-10-20-2006-135
END:VEVENT

END:VCALENDAR
