BEGIN:VCALENDAR
VERSION:2.0
PRODID:-//ChamberMaster//Event Calendar 2.0//EN
METHOD:PUBLISH
X-PUBLISHED-TTL:P3D
REFRESH-INTERVAL:P3D
CALSCALE:GREGORIAN
BEGIN:VEVENT
DTSTART:20060822T050000Z
DTEND:20060822T050000Z
X-MICROSOFT-CDO-ALLDAYEVENT:FALSE
SUMMARY:Living at Home's Antique Critique and Collectible
DESCRIPTION:Gather up your collectibles and have them appraised (for a small fee) by an antique dealer.  The Antique Critique will be our version of the Antiques Roadshow.  You don't have anything of value to have appraised?  Then you can shop our Collectible Sale\, where we will feature upscale sale items that have been donated to Living at Home.\nThis is sure to become an event that you ''must have'' on your calendar!
X-ALT-DESC;FMTTYPE=text/html:Gather up your collectibles and have them appraised (for a small fee) by an antique dealer.  The Antique Critique will be our version of the Antiques Roadshow.  You don't have anything of value to have appraised?  Then you can shop our Collectible Sale\, where we will feature upscale sale items that have been donated to Living at Home.\nThis is sure to become an event that you ''must have'' on your calendar!
LOCATION:to be determined
UID:e.91.134
SEQUENCE:3
DTSTAMP:20260420T122451Z
URL:https://business.parkrapids.com/events/details/living-at-home-s-antique-critique-and-collectible-08-22-2006-134
END:VEVENT

END:VCALENDAR
