BEGIN:VCALENDAR
VERSION:2.0
PRODID:-//ChamberMaster//Event Calendar 2.0//EN
METHOD:PUBLISH
X-PUBLISHED-TTL:P3D
REFRESH-INTERVAL:P3D
CALSCALE:GREGORIAN
BEGIN:VEVENT
DTSTART:20060602T050000Z
DTEND:20060612T050000Z
X-MICROSOFT-CDO-ALLDAYEVENT:FALSE
SUMMARY:Lodging Spring Golf Week
DESCRIPTION:
X-ALT-DESC;FMTTYPE=text/html:
LOCATION:
UID:e.91.27
SEQUENCE:3
DTSTAMP:20260420T153238Z
URL:https://business.parkrapids.com/events/details/lodging-spring-golf-week-06-02-2006-27
END:VEVENT

END:VCALENDAR
