BEGIN:VCALENDAR
VERSION:2.0
PRODID:-//ChamberMaster//Event Calendar 2.0//EN
METHOD:PUBLISH
X-PUBLISHED-TTL:P3D
REFRESH-INTERVAL:P3D
CALSCALE:GREGORIAN
BEGIN:VEVENT
DTSTART:20060621T050000Z
DTEND:20060621T050000Z
X-MICROSOFT-CDO-ALLDAYEVENT:FALSE
SUMMARY:Moonlight Madness
DESCRIPTION:A celebration of the first day of summer with in-store specials and extended hours.
X-ALT-DESC;FMTTYPE=text/html:A celebration of the first day of summer with in-store specials and extended hours.  
LOCATION:Downtown Park Rapids
UID:e.91.131
SEQUENCE:3
DTSTAMP:20260420T170443Z
URL:https://business.parkrapids.com/events/details/moonlight-madness-06-21-2006-131
END:VEVENT

END:VCALENDAR
