BEGIN:VCALENDAR
VERSION:2.0
PRODID:-//ChamberMaster//Event Calendar 2.0//EN
METHOD:PUBLISH
X-PUBLISHED-TTL:P3D
REFRESH-INTERVAL:P3D
CALSCALE:GREGORIAN
BEGIN:VEVENT
DTSTART;VALUE=DATE:20220710
DTEND;VALUE=DATE:20220711
TRANSP:TRANSPARENT
X-MICROSOFT-CDO-ALLDAYEVENT:TRUE
SUMMARY:Movie:.The Great Yellowstone Thaw Part 3
DESCRIPTION:It's summer in Yellowstone\, and with soaring temperatures and drought comes an increased risk of wildfires. All the water from the thaw has long since flowed away and a lack of rain since has left the ground tinder dry. Although these fires can cause devastation to huge areas of forest and wildlife\, they're essential for new growth. 50 min
X-ALT-DESC;FMTTYPE=text/html:<span style="color: rgb(0\, 0\, 0)\; font-size: 10.5pt\; font-family: &quot\;Arial Narrow&quot\;\, sans-serif\; margin: 0px\;"><span style="margin: 0px\; color: rgb(34\, 34\, 34)\; background-image: initial\; background-position: initial\; background-size: initial\; background-repeat: initial\; background-attachment: initial\; background-origin: initial\; background-clip: initial\;">It&rsquo\;s summer in Yellowstone\, and with soaring temperatures and drought comes an increased risk of wildfires.&nbsp\;All the water from the&nbsp\;thaw&nbsp\;has long since flowed away and a lack of rain since has left the ground tinder dry. Although these fires can cause devastation to huge areas of forest and wildlife\, they&rsquo\;re essential for new growth. 50 min</span></span><span style="color: rgb(0\, 0\, 0)\; font-size: 10.5pt\; font-family: &quot\;Arial Narrow&quot\;\, sans-serif\; margin: 0px\; background-image: initial\; background-position: initial\; background-size: initial\; background-repeat: initial\; background-attachment: initial\; background-origin: initial\; background-clip: initial\;">&nbsp\;</span>
LOCATION:Tamarac National Wildlife Rescue
UID:e.91.39651
SEQUENCE:3
DTSTAMP:20260424T201458Z
URL:https://business.parkrapids.com/events/details/movie-the-great-yellowstone-thaw-part-3-39651
END:VEVENT

END:VCALENDAR
