BEGIN:VCALENDAR
VERSION:2.0
PRODID:-//ChamberMaster//Event Calendar 2.0//EN
METHOD:PUBLISH
X-PUBLISHED-TTL:P3D
REFRESH-INTERVAL:P3D
CALSCALE:GREGORIAN
BEGIN:VEVENT
DTSTART;VALUE=DATE:20240602
DTEND;VALUE=DATE:20240603
TRANSP:TRANSPARENT
X-MICROSOFT-CDO-ALLDAYEVENT:TRUE
SUMMARY:Movie: The Mighty Weasel
DESCRIPTION:Sunday June 2\, 2:00 pm\n\nMovie: The Mighty Weasel Discover the truth about the infamous weasel family often portrayed as villains and associated with unsavory behavior. Learn about their problem-solving skills\, their unique sense of smell and the secrets behind their flexibility. 50min.
X-ALT-DESC;FMTTYPE=text/html:<p style="margin: 0in\; color: rgb(34\, 34\, 34)\; font-family: Arial\, Helvetica\, sans-serif\; font-size: small\; line-height: 13.91px\;"><span style="font-family: Arial\, sans-serif\; font-size: 10pt\; color: rgb(0\, 0\, 0)\; line-height: 14.2667px\;"><b>Sunday June 2\, 2:00 pm</b></span></p>\n\n<p style="margin: 0in\; color: rgb(34\, 34\, 34)\; font-family: Arial\, Helvetica\, sans-serif\; font-size: small\; line-height: 13.91px\;"><span style="font-family: Arial\, sans-serif\; font-size: 10pt\; color: rgb(0\, 0\, 0)\; line-height: 14.2667px\;"><b>Movie: The Mighty Weasel&nbsp\;</b>Discover the truth about the infamous weasel family often portrayed as villains and associated with unsavory behavior. Learn about their problem-solving skills\, their unique sense of smell and the secrets behind their flexibility. 50min.&nbsp\;</span></p>\n\n<div>&nbsp\;</div>\n
LOCATION:Tamarac National Wildlife Refuge is located 9 miles north of the junction of County Hwy 34 and County Hwy 29.
UID:e.91.44259
SEQUENCE:3
DTSTAMP:20260420T111522Z
URL:https://business.parkrapids.com/events/details/movie-the-mighty-weasel-44259
END:VEVENT

END:VCALENDAR
