BEGIN:VCALENDAR
VERSION:2.0
PRODID:-//ChamberMaster//Event Calendar 2.0//EN
METHOD:PUBLISH
X-PUBLISHED-TTL:P3D
REFRESH-INTERVAL:P3D
CALSCALE:GREGORIAN
BEGIN:VEVENT
DTSTART:20060730T050000Z
DTEND:20060730T050000Z
X-MICROSOFT-CDO-ALLDAYEVENT:FALSE
SUMMARY:Mushroom Foray 2006
DESCRIPTION:
X-ALT-DESC;FMTTYPE=text/html:
LOCATION:Paul & Babe Statue Bemidji
UID:e.91.186
SEQUENCE:3
DTSTAMP:20260420T140053Z
URL:https://business.parkrapids.com/events/details/mushroom-foray-2006-07-30-2006-186
END:VEVENT

END:VCALENDAR
