BEGIN:VCALENDAR
VERSION:2.0
PRODID:-//ChamberMaster//Event Calendar 2.0//EN
METHOD:PUBLISH
X-PUBLISHED-TTL:P3D
REFRESH-INTERVAL:P3D
CALSCALE:GREGORIAN
BEGIN:VEVENT
DTSTART:20060604T050000Z
DTEND:20060604T050000Z
X-MICROSOFT-CDO-ALLDAYEVENT:FALSE
SUMMARY:Mushroom Forays 2006
DESCRIPTION:
X-ALT-DESC;FMTTYPE=text/html:
LOCATION:Bog Walk. Meet at the Paul & Babe Statue in Bemidji
UID:e.91.184
SEQUENCE:3
DTSTAMP:20260420T170638Z
URL:https://business.parkrapids.com/events/details/mushroom-forays-2006-06-04-2006-184
END:VEVENT

END:VCALENDAR
