BEGIN:VCALENDAR
VERSION:2.0
PRODID:-//ChamberMaster//Event Calendar 2.0//EN
METHOD:PUBLISH
X-PUBLISHED-TTL:P3D
REFRESH-INTERVAL:P3D
CALSCALE:GREGORIAN
BEGIN:VEVENT
DTSTART:20060910T050000Z
DTEND:20060910T050000Z
X-MICROSOFT-CDO-ALLDAYEVENT:FALSE
SUMMARY:Mushroom Forays 2006
DESCRIPTION:
X-ALT-DESC;FMTTYPE=text/html:
LOCATION:Steamboat Trail on East side of #64 North of Akeley
UID:e.91.187
SEQUENCE:3
DTSTAMP:20260420T105002Z
URL:https://business.parkrapids.com/events/details/mushroom-forays-2006-09-10-2006-187
END:VEVENT

END:VCALENDAR
