BEGIN:VCALENDAR
VERSION:2.0
PRODID:-//ChamberMaster//Event Calendar 2.0//EN
METHOD:PUBLISH
X-PUBLISHED-TTL:P3D
REFRESH-INTERVAL:P3D
CALSCALE:GREGORIAN
BEGIN:VEVENT
DTSTART:20061001T050000Z
DTEND:20061001T050000Z
X-MICROSOFT-CDO-ALLDAYEVENT:FALSE
SUMMARY:Mushroom Forays 2006
DESCRIPTION:
X-ALT-DESC;FMTTYPE=text/html:
LOCATION:Foothills State Forest. South of Akeley on #64\, the E on #2.
UID:e.91.188
SEQUENCE:3
DTSTAMP:20260420T104149Z
URL:https://business.parkrapids.com/events/details/mushroom-forays-2006-10-01-2006-188
END:VEVENT

END:VCALENDAR
