BEGIN:VCALENDAR
VERSION:2.0
PRODID:-//ChamberMaster//Event Calendar 2.0//EN
METHOD:PUBLISH
X-PUBLISHED-TTL:P3D
REFRESH-INTERVAL:P3D
CALSCALE:GREGORIAN
BEGIN:VEVENT
DTSTART:20060721T050000Z
DTEND:20060722T050000Z
X-MICROSOFT-CDO-ALLDAYEVENT:FALSE
SUMMARY:Muskie Days - Nevis
DESCRIPTION:This will be the 56th annual celebration of the big lunker that once ruled the waters of Belle Taine. A 5K run\, horseshoe tourney\, scavenger hunt for families\, art in the park\, food stands\, buffalo chip throwing contest\, watermelon seed spitting contest\, kids' games\, parades and a street dance are some of the activities to participate in.
X-ALT-DESC;FMTTYPE=text/html:This will be the 56th annual celebration of the big lunker that once ruled the waters of Belle Taine. A 5K run\, horseshoe tourney\, scavenger hunt for families\, art in the park\, food stands\, buffalo chip throwing contest\, watermelon seed spitting contest\, kids' games\, parades and a street dance are some of the activities to participate in.
LOCATION:Nevis\, MN
UID:e.91.50
SEQUENCE:3
DTSTAMP:20260420T140157Z
URL:https://business.parkrapids.com/events/details/muskie-days-nevis-07-21-2006-50
END:VEVENT

END:VCALENDAR
