BEGIN:VCALENDAR
VERSION:2.0
PRODID:-//ChamberMaster//Event Calendar 2.0//EN
METHOD:PUBLISH
X-PUBLISHED-TTL:P3D
REFRESH-INTERVAL:P3D
CALSCALE:GREGORIAN
BEGIN:VEVENT
DTSTART:20060405T050000Z
DTEND:20060408T050000Z
X-MICROSOFT-CDO-ALLDAYEVENT:FALSE
SUMMARY:Nevis Art Show
DESCRIPTION:90 Students Grades 7 -12 will have their artwork on display
X-ALT-DESC;FMTTYPE=text/html:90 Students Grades 7 -12 will have their artwork on display
LOCATION:Nevis Highschool - Tiger Lobby
UID:e.91.126
SEQUENCE:3
DTSTAMP:20260420T203325Z
URL:https://business.parkrapids.com/events/details/nevis-art-show-04-05-2006-126
END:VEVENT

END:VCALENDAR
