BEGIN:VCALENDAR
VERSION:2.0
PRODID:-//ChamberMaster//Event Calendar 2.0//EN
METHOD:PUBLISH
X-PUBLISHED-TTL:P3D
REFRESH-INTERVAL:P3D
CALSCALE:GREGORIAN
BEGIN:VEVENT
DTSTART;VALUE=DATE:20230923
DTEND;VALUE=DATE:20230924
TRANSP:TRANSPARENT
X-MICROSOFT-CDO-ALLDAYEVENT:TRUE
SUMMARY:North Country Trail Hike
DESCRIPTION:Enjoy the beautiful fall colors and celebrate National Public Lands Day. Join North Country Trail Association members for an afternoon of hiking. Meet at the Visitor Center and carpool to the beginning. You'll have the option of a three or five mile hike. It's recommended to wear an item of blaze orange. Afterwards\, join us for ice cream in the Discovery Center.
X-ALT-DESC;FMTTYPE=text/html:<span style="font-size: 10.5pt\; font-family: &quot\;Arial Narrow&quot\;\, sans-serif\; background-image: initial\; background-position: initial\; background-size: initial\; background-repeat: initial\; background-attachment: initial\; background-origin: initial\; background-clip: initial\; color: rgb(36\, 36\, 36)\;">Enjoy the beautiful fall colors and celebrate National Public Lands Day.&nbsp\;</span><span style="color: rgb(0\, 0\, 0)\; font-size: 10.5pt\; font-family: &quot\;Arial Narrow&quot\;\, sans-serif\;">Join North Country Trail Association members for an afternoon of hiking.&nbsp\;</span><span style="font-size: 10.5pt\; font-family: &quot\;Arial Narrow&quot\;\, sans-serif\; background-image: initial\; background-position: initial\; background-size: initial\; background-repeat: initial\; background-attachment: initial\; background-origin: initial\; background-clip: initial\; color: rgb(36\, 36\, 36)\;">Meet at the Visitor Center and carpool to the beginning. You&rsquo\;ll have the option of a three or five mile hike. It&rsquo\;s recommended to wear an item of blaze orange. Afterwards\, join us for ice cream in the Discovery Center.</span><span style="color: rgb(0\, 0\, 0)\; font-size: 10.5pt\; font-family: &quot\;Arial Narrow&quot\;\, sans-serif\;">&nbsp\;</span>
LOCATION:Tamarac National Wildlife Refuge 35704 Cty Hwy 26 Rochert\, MN 56578
UID:e.91.42361
SEQUENCE:3
DTSTAMP:20260426T025416Z
URL:https://business.parkrapids.com/events/details/north-country-trail-hike-42361
END:VEVENT

END:VCALENDAR
