BEGIN:VCALENDAR
VERSION:2.0
PRODID:-//ChamberMaster//Event Calendar 2.0//EN
METHOD:PUBLISH
X-PUBLISHED-TTL:P3D
REFRESH-INTERVAL:P3D
CALSCALE:GREGORIAN
BEGIN:VEVENT
DTSTART:20070810T050000Z
DTEND:20070811T050000Z
X-MICROSOFT-CDO-ALLDAYEVENT:FALSE
SUMMARY:Northern Knights Run to the Rapids
DESCRIPTION:This Classic Car Club hosts a get together that icludes a Saturday Morning Show & Shine on Main Street\, Blind Man Races and much more!
X-ALT-DESC;FMTTYPE=text/html:This Classic Car Club hosts a get together that icludes a Saturday Morning Show & Shine on Main Street\, Blind Man Races and much more!
LOCATION:Park Rapids\, MN
UID:e.91.62
SEQUENCE:3
DTSTAMP:20260419T160818Z
URL:https://business.parkrapids.com/events/details/northern-knights-run-to-the-rapids-08-10-2007-62
END:VEVENT

END:VCALENDAR
