BEGIN:VCALENDAR
VERSION:2.0
PRODID:-//ChamberMaster//Event Calendar 2.0//EN
METHOD:PUBLISH
X-PUBLISHED-TTL:P3D
REFRESH-INTERVAL:P3D
CALSCALE:GREGORIAN
BEGIN:VEVENT
DTSTART:20060803T050000Z
DTEND:20060805T050000Z
X-MICROSOFT-CDO-ALLDAYEVENT:FALSE
SUMMARY:Northern Light Opera Company
DESCRIPTION:Presents~Oliver
X-ALT-DESC;FMTTYPE=text/html:Presents~Oliver
LOCATION:Park Rapids\, MN
UID:e.91.55
SEQUENCE:3
DTSTAMP:20260420T140052Z
URL:https://business.parkrapids.com/events/details/northern-light-opera-company-08-03-2006-55
END:VEVENT

END:VCALENDAR
