BEGIN:VCALENDAR
VERSION:2.0
PRODID:-//ChamberMaster//Event Calendar 2.0//EN
METHOD:PUBLISH
X-PUBLISHED-TTL:P3D
REFRESH-INTERVAL:P3D
CALSCALE:GREGORIAN
BEGIN:VEVENT
DTSTART:20060728T050000Z
DTEND:20060805T050000Z
X-MICROSOFT-CDO-ALLDAYEVENT:FALSE
SUMMARY:Northern Light Opera Company presents OLIVER!
DESCRIPTION:The Northern Light Opera Company presents the musical\, OLIVER! at the Park Rapids Area High School Auditorium July 28\, 29\, 30 (3PM)\, August 3\, 4\, 5\, 2006 at 7PM.  This production is the fifth summer production for NLOC.  Previous shows have included Gilbert and Sullivan operettas: PIRATES OF PENZANCE\, THE MIKADO\, and RUDDIGORE.  This exciting production will include over 50 children and adults from the communities of Park Rapids\, Walker\, Sebeka\, and Staples.  The story is based on Charles Dicken's OLIVER TWIST\, the saga of a workhouse boy's search for family love.  Tickets available at Beagle Books (Park Rapids)\, Walker Art Gallery (Walker)\, and on-line at http://northernlightopera.org.
X-ALT-DESC;FMTTYPE=text/html:The Northern Light Opera Company presents the musical\, OLIVER! at the Park Rapids Area High School Auditorium July 28\, 29\, 30 (3PM)\, August 3\, 4\, 5\, 2006 at 7PM.  This production is the fifth summer production for NLOC.  Previous shows have included Gilbert and Sullivan operettas: PIRATES OF PENZANCE\, THE MIKADO\, and RUDDIGORE.  This exciting production will include over 50 children and adults from the communities of Park Rapids\, Walker\, Sebeka\, and Staples.  The story is based on Charles Dicken's OLIVER TWIST\, the saga of a workhouse boy's search for family love.  Tickets available at Beagle Books (Park Rapids)\, Walker Art Gallery (Walker)\, and on-line at http://northernlightopera.org.
LOCATION:Park Rapids Area High School Auditorium 301 Huntsinger Ave (near the water tower) Park Rapids\, MN
UID:e.91.195
SEQUENCE:3
DTSTAMP:20260420T122410Z
URL:https://business.parkrapids.com/events/details/northern-light-opera-company-presents-oliver-07-28-2006-195
END:VEVENT

END:VCALENDAR
