BEGIN:VCALENDAR
VERSION:2.0
PRODID:-//ChamberMaster//Event Calendar 2.0//EN
METHOD:PUBLISH
X-PUBLISHED-TTL:P3D
REFRESH-INTERVAL:P3D
CALSCALE:GREGORIAN
BEGIN:VEVENT
DTSTART:20060812T050000Z
DTEND:20060812T050000Z
X-MICROSOFT-CDO-ALLDAYEVENT:FALSE
SUMMARY:Northwoods Triathlon
DESCRIPTION:
X-ALT-DESC;FMTTYPE=text/html:
LOCATION:Nevis\, MN
UID:e.91.66
SEQUENCE:3
DTSTAMP:20260420T121859Z
URL:https://business.parkrapids.com/events/details/northwoods-triathlon-08-12-2006-66
END:VEVENT

END:VCALENDAR
