BEGIN:VCALENDAR
VERSION:2.0
PRODID:-//ChamberMaster//Event Calendar 2.0//EN
METHOD:PUBLISH
X-PUBLISHED-TTL:P3D
REFRESH-INTERVAL:P3D
CALSCALE:GREGORIAN
BEGIN:VEVENT
DTSTART:20060825T050000Z
DTEND:20060826T050000Z
X-MICROSOFT-CDO-ALLDAYEVENT:FALSE
SUMMARY:Ojibwe Forest Rally
DESCRIPTION:The Ojibwe Forest Road Rally is in it's 21st year and will be held at the Paul Bunyan\, Two Inlets and White Earth State Forests on August 25th and 26th\, 2006.  Road Rallies include a competing team\, consisting of a driver and a navigator\, and are given a set of written instructions which are used to follow a pre-determined course. Each team drives the course independently\, usually at one minute intervals\, following the written instructions\, or route instructions\, exactly. On August 6th there will be an hour of coverage on ABC television that premiers the sport as part of the 2006 X-Games.\n\n We will have a  special stage at the Bemidji Speedway on Friday night and on Saturday we a a Parc Expose' (cars on display) at the Northwest Technical College in Bemidji. \n\nFor more information go to www.ojibweforestrally.com
X-ALT-DESC;FMTTYPE=text/html:The Ojibwe Forest Road Rally is in it's 21st year and will be held at the Paul Bunyan\, Two Inlets and White Earth State Forests on August 25th and 26th\, 2006.  Road Rallies include a competing team\, consisting of a driver and a navigator\, and are given a set of written instructions which are used to follow a pre-determined course. Each team drives the course independently\, usually at one minute intervals\, following the written instructions\, or route instructions\, exactly. On August 6th there will be an hour of coverage on ABC television that premiers the sport as part of the 2006 X-Games.\n\n We will have a  special stage at the Bemidji Speedway on Friday night and on Saturday we a a Parc Expose' (cars on display) at the Northwest Technical College in Bemidji. \n\nFor more information go to www.ojibweforestrally.com
LOCATION:Paul Bunyan\, Two Inlets and White Earth State Forests and also at the Bemidji Speedway and Northwest Technical College.
UID:e.91.183
SEQUENCE:3
DTSTAMP:20260420T121900Z
URL:https://business.parkrapids.com/events/details/ojibwe-forest-rally-08-25-2006-183
END:VEVENT

END:VCALENDAR
