BEGIN:VCALENDAR
VERSION:2.0
PRODID:-//ChamberMaster//Event Calendar 2.0//EN
METHOD:PUBLISH
X-PUBLISHED-TTL:P3D
REFRESH-INTERVAL:P3D
CALSCALE:GREGORIAN
BEGIN:VEVENT
DTSTART:20060624T050000Z
DTEND:20060624T050000Z
X-MICROSOFT-CDO-ALLDAYEVENT:FALSE
SUMMARY:One River Mississippi Performance Project
DESCRIPTION:One River Mississippi is a national performance linking 7 river sites. Each Communtiy will feature local performers\, canoes or barges\, in a dance created especially for their own stretch of the river. In the finale\, everyone will perform to the same music at precisely the same moment to music simulcast over the radio.
X-ALT-DESC;FMTTYPE=text/html:One River Mississippi is a national performance linking 7 river sites. Each Communtiy will feature local performers\, canoes or barges\, in a dance created especially for their own stretch of the river. In the finale\, everyone will perform to the same music at precisely the same moment to music simulcast over the radio.
LOCATION:Itasca State Park Headwaters
UID:e.91.43
SEQUENCE:3
DTSTAMP:20260420T154018Z
URL:https://business.parkrapids.com/events/details/one-river-mississippi-performance-project-06-24-2006-43
END:VEVENT

END:VCALENDAR
