BEGIN:VCALENDAR
VERSION:2.0
PRODID:-//ChamberMaster//Event Calendar 2.0//EN
METHOD:PUBLISH
X-PUBLISHED-TTL:P3D
REFRESH-INTERVAL:P3D
CALSCALE:GREGORIAN
BEGIN:VEVENT
DTSTART:20060922T050000Z
DTEND:20060922T050000Z
X-MICROSOFT-CDO-ALLDAYEVENT:FALSE
SUMMARY:Osage Lions Buffalo Dinner
DESCRIPTION:
X-ALT-DESC;FMTTYPE=text/html:
LOCATION:American Legion - Park Rapids
UID:e.91.83
SEQUENCE:3
DTSTAMP:20260420T104640Z
URL:https://business.parkrapids.com/events/details/osage-lions-buffalo-dinner-09-22-2006-83
END:VEVENT

END:VCALENDAR
