BEGIN:VCALENDAR
VERSION:2.0
PRODID:-//ChamberMaster//Event Calendar 2.0//EN
METHOD:PUBLISH
X-PUBLISHED-TTL:P3D
REFRESH-INTERVAL:P3D
CALSCALE:GREGORIAN
BEGIN:VEVENT
DTSTART:20060801T050000Z
DTEND:20060801T050000Z
X-MICROSOFT-CDO-ALLDAYEVENT:FALSE
SUMMARY:Osage Lions Peach Sales
DESCRIPTION:Date To Be Announced
X-ALT-DESC;FMTTYPE=text/html:Date To Be Announced
LOCATION:Park Rapids
UID:e.91.59
SEQUENCE:3
DTSTAMP:20260420T122214Z
URL:https://business.parkrapids.com/events/details/osage-lions-peach-sales-08-01-2006-59
END:VEVENT

END:VCALENDAR
