BEGIN:VCALENDAR
VERSION:2.0
PRODID:-//ChamberMaster//Event Calendar 2.0//EN
METHOD:PUBLISH
X-PUBLISHED-TTL:P3D
REFRESH-INTERVAL:P3D
CALSCALE:GREGORIAN
BEGIN:VEVENT
DTSTART:20070203T060000Z
DTEND:20070203T060000Z
X-MICROSOFT-CDO-ALLDAYEVENT:FALSE
SUMMARY:Otto Matic 3 Mile Walk/Run
DESCRIPTION:
X-ALT-DESC;FMTTYPE=text/html:
LOCATION:Park Rapids American Legion
UID:e.91.226
SEQUENCE:3
DTSTAMP:20260420T024756Z
URL:https://business.parkrapids.com/events/details/otto-matic-3-mile-walk-run-02-03-2007-226
END:VEVENT

END:VCALENDAR
