BEGIN:VCALENDAR
VERSION:2.0
PRODID:-//ChamberMaster//Event Calendar 2.0//EN
METHOD:PUBLISH
X-PUBLISHED-TTL:P3D
REFRESH-INTERVAL:P3D
CALSCALE:GREGORIAN
BEGIN:VEVENT
DTSTART;VALUE=DATE:20230917
DTEND;VALUE=DATE:20230918
TRANSP:TRANSPARENT
X-MICROSOFT-CDO-ALLDAYEVENT:TRUE
SUMMARY:Paint with Nate!
DESCRIPTION:Sunday September 17\, 3-5 pm Paint with Nate! \n\nGet creative with nature. Join Park Rapids Artist Nate Luetgers for a fun afternoon of painting. This is a great activity for people of all ages. Cost is 35.00 which includes all the material needed to complete the project. Registration is through the  Friends of Tamarac at Eventbrite.com. Meet at the Discovery Center.
X-ALT-DESC;FMTTYPE=text/html:<p style="margin: 0in\; color: rgb(0\, 0\, 0)\; font-size: 11pt\; font-family: Calibri\, sans-serif\;"><font face="Arial Narrow\, sans-serif"><b><span style="font-family: Arial\, Helvetica\, sans-serif\; margin: 0px\; color: rgb(12\, 100\, 192)\;">Sunday September 17\, 3-5 pm Paint with Nate!</span><span style="margin: 0px\; color: rgb(131\, 60\, 11)\;"><span style="font-family: Arial\, Helvetica\, sans-serif\; margin: 0px\; color: rgb(12\, 100\, 192)\;">&nbsp\;</span></span></b></font></p>\n\n<p style="margin: 0in\; color: rgb(0\, 0\, 0)\; font-size: 11pt\; font-family: Calibri\, sans-serif\;"><font face="Arial Narrow\, sans-serif"><span style="font-size: 10.5pt\; font-family: Arial\, Helvetica\, sans-serif\; margin: 0px\; color: rgb(35\, 31\, 32)\;">Get creative with nature. Join Park Rapids Artist Nate Luetgers for a fun afternoon of painting. This is a great activity for people of all ages.&nbsp\;<b>Cost is 35.00 which includes all the material needed to complete the project. Registration is through the</b></span><b><span style="font-size: 10.5pt\; margin: 0px\; color: rgb(35\, 31\, 32)\;"><span style="font-family: Arial\, Helvetica\, sans-serif\; margin: 0px\;">&nbsp\;&nbsp\;</span></span><span style="font-size: 10.5pt\; font-family: Arial\, Helvetica\, sans-serif\; margin: 0px\; color: rgb(35\, 31\, 32)\;">Friends of Tamarac at Eventbrite.com. Meet at the Discovery Center.</span><span style="font-size: 10.5pt\; margin: 0px\; color: rgb(35\, 31\, 32)\;"><span style="font-family: Arial\, Helvetica\, sans-serif\; margin: 0px\;">&nbsp\;</span></span></b></font></p>\n
LOCATION:Tamarac National Wildlife Refuge 35704 Cty Hwy 26 Rochert\, MN 56578
UID:e.91.42328
SEQUENCE:3
DTSTAMP:20260425T121841Z
URL:https://business.parkrapids.com/events/details/paint-with-nate-42328
END:VEVENT

END:VCALENDAR
