BEGIN:VCALENDAR
VERSION:2.0
PRODID:-//ChamberMaster//Event Calendar 2.0//EN
METHOD:PUBLISH
X-PUBLISHED-TTL:P3D
REFRESH-INTERVAL:P3D
CALSCALE:GREGORIAN
BEGIN:VEVENT
DTSTART:20070510T050000Z
DTEND:20070510T050000Z
X-MICROSOFT-CDO-ALLDAYEVENT:FALSE
SUMMARY:Park Rapids Area Library Book Sale
DESCRIPTION:
X-ALT-DESC;FMTTYPE=text/html:
LOCATION:Park Rapids Area Library
UID:e.91.227
SEQUENCE:3
DTSTAMP:20260419T231800Z
URL:https://business.parkrapids.com/events/details/park-rapids-area-library-book-sale-05-10-2007-227
END:VEVENT

END:VCALENDAR
