BEGIN:VCALENDAR
VERSION:2.0
PRODID:-//ChamberMaster//Event Calendar 2.0//EN
METHOD:PUBLISH
X-PUBLISHED-TTL:P3D
REFRESH-INTERVAL:P3D
CALSCALE:GREGORIAN
BEGIN:VEVENT
DTSTART:20060519T050000Z
DTEND:20060519T050000Z
X-MICROSOFT-CDO-ALLDAYEVENT:FALSE
SUMMARY:Park Rapids Bike to Work Day
DESCRIPTION:Friday\, May 19\, is national Bike to Work Day\, and May\n is national Bike to Work Month.  To highlight this in\n Park Rapids\, the 3rd Street businesses will offer\n coffee\, soft drinks\, muffins\, and other incentives for\nthose who bike to work that day.  Come to Bella Caffe\,\n Third Street Market\, and Beagle Books from 7 - 10 AM\non your way to work.  You don't have to wear cute\n little tight shorts to do this ride\, but\, if you bike\n to work regularly\, you will save money\, lose weight\,\n and help reduce our dependence on foreign oil.  If it\nrains\, the event will move to Friday\, May 26.
X-ALT-DESC;FMTTYPE=text/html: Friday\, May 19\, is national Bike to Work Day\, and May\n is national Bike to Work Month.  To highlight this in\n Park Rapids\, the 3rd Street businesses will offer\n coffee\, soft drinks\, muffins\, and other incentives for\nthose who bike to work that day.  Come to Bella Caffe\,\n Third Street Market\, and Beagle Books from 7 - 10 AM\non your way to work.  You don't have to wear cute\n little tight shorts to do this ride\, but\, if you bike\n to work regularly\, you will save money\, lose weight\,\n and help reduce our dependence on foreign oil.  If it\nrains\, the event will move to Friday\, May 26.\n
LOCATION:
UID:e.91.145
SEQUENCE:3
DTSTAMP:20260420T170931Z
URL:https://business.parkrapids.com/events/details/park-rapids-bike-to-work-day-05-19-2006-145
END:VEVENT

END:VCALENDAR
