BEGIN:VCALENDAR
VERSION:2.0
PRODID:-//ChamberMaster//Event Calendar 2.0//EN
METHOD:PUBLISH
X-PUBLISHED-TTL:P3D
REFRESH-INTERVAL:P3D
CALSCALE:GREGORIAN
BEGIN:VEVENT
DTSTART:20061209T060000Z
DTEND:20061211T060000Z
X-MICROSOFT-CDO-ALLDAYEVENT:FALSE
SUMMARY:Park Rapids Classic Chorale Christmas Concerts
DESCRIPTION:
X-ALT-DESC;FMTTYPE=text/html:
LOCATION:
UID:e.91.104
SEQUENCE:3
DTSTAMP:20260420T055609Z
URL:https://business.parkrapids.com/events/details/park-rapids-classic-chorale-christmas-concerts-12-09-2006-104
END:VEVENT

END:VCALENDAR
