BEGIN:VCALENDAR
VERSION:2.0
PRODID:-//ChamberMaster//Event Calendar 2.0//EN
METHOD:PUBLISH
X-PUBLISHED-TTL:P3D
REFRESH-INTERVAL:P3D
CALSCALE:GREGORIAN
BEGIN:VEVENT
DTSTART;VALUE=DATE:20070504
DTEND;VALUE=DATE:20070506
TRANSP:TRANSPARENT
X-MICROSOFT-CDO-ALLDAYEVENT:TRUE
SUMMARY:Park Rapids Classic Chorale Spring Concert\, 2007
DESCRIPTION:Bella Musica\n''Beautiful Music''\n\nFriday\, May 4th at 7:30 p.m.\nSaturday\, May 5th at 7:30 p.m.\nat St. John's Lutheran Church\, Park Rapids
X-ALT-DESC;FMTTYPE=text/html:Bella Musica\n''Beautiful Music''\n\nFriday\, May 4th at 7:30 p.m.\nSaturday\, May 5th at 7:30 p.m.\nat St. John's Lutheran Church\, Park Rapids
LOCATION:St. John's Lutheran Church\, Park Rapids
UID:e.91.265
SEQUENCE:3
DTSTAMP:20260419T231712Z
URL:https://business.parkrapids.com/events/details/park-rapids-classic-chorale-spring-concert-2007-05-04-2007-265
END:VEVENT

END:VCALENDAR
