BEGIN:VCALENDAR
VERSION:2.0
PRODID:-//ChamberMaster//Event Calendar 2.0//EN
METHOD:PUBLISH
X-PUBLISHED-TTL:P3D
REFRESH-INTERVAL:P3D
CALSCALE:GREGORIAN
BEGIN:VEVENT
DTSTART:20070323T050000Z
DTEND:20070323T050000Z
X-MICROSOFT-CDO-ALLDAYEVENT:FALSE
SUMMARY:Park Rapids Education and Activities Foundation
DESCRIPTION:PREAF is having a fish fry at the American Legion on March 23rd\, 2007.
X-ALT-DESC;FMTTYPE=text/html:PREAF is having a fish fry at the American Legion on March 23rd\, 2007.
LOCATION:American Legion
UID:e.91.251
SEQUENCE:3
DTSTAMP:20260420T005722Z
URL:https://business.parkrapids.com/events/details/park-rapids-education-and-activities-foundation-03-23-2007-251
END:VEVENT

END:VCALENDAR
