BEGIN:VCALENDAR
VERSION:2.0
PRODID:-//ChamberMaster//Event Calendar 2.0//EN
METHOD:PUBLISH
X-PUBLISHED-TTL:P3D
REFRESH-INTERVAL:P3D
CALSCALE:GREGORIAN
BEGIN:VEVENT
DTSTART;VALUE=DATE:20240622
DTEND;VALUE=DATE:20240623
TRANSP:TRANSPARENT
X-MICROSOFT-CDO-ALLDAYEVENT:TRUE
SUMMARY:Park Rapids Farmers' Market
DESCRIPTION:Join us and shop one of the largest Farmers' Markets in the area.  Over 50 friendly vendors with farm fresh local products + unique arts and crafts.  Live music\, food truck\, and lots of free parking!
X-ALT-DESC;FMTTYPE=text/html:Join us and shop one of the largest Farmers&#39\; Markets in the area.&nbsp\; Over 50 friendly vendors with farm fresh local products + unique arts and crafts.&nbsp\; Live music\, food truck\, and lots of free parking!
LOCATION:Highway 34 across from Thielen Motors and next to the American Legion
UID:e.91.44058
SEQUENCE:3
DTSTAMP:20260420T112142Z
URL:https://business.parkrapids.com/events/details/park-rapids-farmers-market-06-22-2024-44058
END:VEVENT

END:VCALENDAR
