BEGIN:VCALENDAR
VERSION:2.0
PRODID:-//ChamberMaster//Event Calendar 2.0//EN
METHOD:PUBLISH
X-PUBLISHED-TTL:P3D
REFRESH-INTERVAL:P3D
CALSCALE:GREGORIAN
BEGIN:VEVENT
DTSTART:20061124T060000Z
DTEND:20061124T060000Z
X-MICROSOFT-CDO-ALLDAYEVENT:FALSE
SUMMARY:Park Rapids Tree Lighting & Santa House Opens
DESCRIPTION:Tree Lighting Ceremony on Main Street Park Rapids - Santa Arrives - Santa House Opens
X-ALT-DESC;FMTTYPE=text/html:Tree Lighting Ceremony on Main Street Park Rapids - Santa Arrives - Santa House Opens
LOCATION:Main Street - Park Rapids
UID:e.91.100
SEQUENCE:3
DTSTAMP:20260420T074754Z
URL:https://business.parkrapids.com/events/details/park-rapids-tree-lighting-santa-house-opens-11-24-2006-100
END:VEVENT

END:VCALENDAR
