BEGIN:VCALENDAR
VERSION:2.0
PRODID:-//ChamberMaster//Event Calendar 2.0//EN
METHOD:PUBLISH
X-PUBLISHED-TTL:P3D
REFRESH-INTERVAL:P3D
CALSCALE:GREGORIAN
BEGIN:VEVENT
DTSTART:20070622T050000Z
DTEND:20070624T050000Z
X-MICROSOFT-CDO-ALLDAYEVENT:FALSE
SUMMARY:Paul Bunyan Days
DESCRIPTION:Fish Fry\, Teen Dance\, Street Dance\, Beer Garden\, Parade\, Silent Auctions\, Live Entertainment
X-ALT-DESC;FMTTYPE=text/html:Fish Fry\, Teen Dance\, Street Dance\, Beer Garden\, Parade\, Silent Auctions\, Live Entertainment
LOCATION:Akeley MN
UID:e.91.41
SEQUENCE:3
DTSTAMP:20260419T212240Z
URL:https://business.parkrapids.com/events/details/paul-bunyan-days-06-22-2007-41
END:VEVENT

END:VCALENDAR
