BEGIN:VCALENDAR
VERSION:2.0
PRODID:-//ChamberMaster//Event Calendar 2.0//EN
METHOD:PUBLISH
X-PUBLISHED-TTL:P3D
REFRESH-INTERVAL:P3D
CALSCALE:GREGORIAN
BEGIN:VEVENT
DTSTART;VALUE=DATE:20070703
DTEND;VALUE=DATE:20070706
TRANSP:TRANSPARENT
X-MICROSOFT-CDO-ALLDAYEVENT:TRUE
SUMMARY:PBR Bull Ride
DESCRIPTION:PBR Bull Ride - Largest Outdoor Bull Ride in the USA -Rain or Shine\nGates Open 5:00 pm - Show 6:30 pm\nNightly Freestyle Moto X\nPark Rapids Chamber Beer Garden - Nightly Dances\nFamily Day - Thursday July 5th 2 adults/2 kids SAVE $4 - Sponsored by West Central Telephone
X-ALT-DESC;FMTTYPE=text/html:PBR Bull Ride - Largest Outdoor Bull Ride in the USA -Rain or Shine<br />Gates Open 5:00 pm - Show 6:30 pm<br />Nightly Freestyle Moto X<br />Park Rapids Chamber Beer Garden - Nightly Dances<br />Family Day - Thursday July 5th 2 adults/2 kids SAVE $4 - Sponsored by West Central Telephone<br />
LOCATION:Double J Rodeo Grounds - State Hwy #34 East\, Park Rapids
UID:e.91.305
SEQUENCE:3
DTSTAMP:20260419T193819Z
URL:https://business.parkrapids.com/events/details/pbr-bull-ride-07-03-2007-305
END:VEVENT

END:VCALENDAR
