BEGIN:VCALENDAR
VERSION:2.0
PRODID:-//ChamberMaster//Event Calendar 2.0//EN
METHOD:PUBLISH
X-PUBLISHED-TTL:P3D
REFRESH-INTERVAL:P3D
CALSCALE:GREGORIAN
BEGIN:VEVENT
DTSTART:20070810T050000Z
DTEND:20070812T050000Z
X-MICROSOFT-CDO-ALLDAYEVENT:FALSE
SUMMARY:Pine Point Powwow
DESCRIPTION:
X-ALT-DESC;FMTTYPE=text/html:
LOCATION:Ponsford\, MN
UID:e.91.64
SEQUENCE:3
DTSTAMP:20260419T160457Z
URL:https://business.parkrapids.com/events/details/pine-point-powwow-08-10-2007-64
END:VEVENT

END:VCALENDAR
