BEGIN:VCALENDAR
VERSION:2.0
PRODID:-//ChamberMaster//Event Calendar 2.0//EN
METHOD:PUBLISH
X-PUBLISHED-TTL:P3D
REFRESH-INTERVAL:P3D
CALSCALE:GREGORIAN
BEGIN:VEVENT
DTSTART:20060715T050000Z
DTEND:20060715T050000Z
X-MICROSOFT-CDO-ALLDAYEVENT:FALSE
SUMMARY:Poetry Seminar
DESCRIPTION:Writing the Short Poem with LouAnn Muhm
X-ALT-DESC;FMTTYPE=text/html:Writing the Short Poem with LouAnn Muhm 
LOCATION:Park Rapids Library
UID:e.91.166
SEQUENCE:3
DTSTAMP:20260420T140006Z
URL:https://business.parkrapids.com/events/details/poetry-seminar-07-15-2006-166
END:VEVENT

END:VCALENDAR
