BEGIN:VCALENDAR
VERSION:2.0
PRODID:-//ChamberMaster//Event Calendar 2.0//EN
METHOD:PUBLISH
X-PUBLISHED-TTL:P3D
REFRESH-INTERVAL:P3D
CALSCALE:GREGORIAN
BEGIN:VEVENT
DTSTART:20070309T060000Z
DTEND:20070309T060000Z
X-MICROSOFT-CDO-ALLDAYEVENT:FALSE
SUMMARY:PR Memorial Scholarship fish fry
DESCRIPTION:PR Memorial Scholarship is having a fish fry at the American Legion on March 9th\, 2007
X-ALT-DESC;FMTTYPE=text/html:PR Memorial Scholarship is having a fish fry at the American Legion on March 9th\, 2007
LOCATION:American Legion
UID:e.91.250
SEQUENCE:3
DTSTAMP:20260420T005855Z
URL:https://business.parkrapids.com/events/details/pr-memorial-scholarship-fish-fry-03-09-2007-250
END:VEVENT

END:VCALENDAR
