BEGIN:VCALENDAR
VERSION:2.0
PRODID:-//ChamberMaster//Event Calendar 2.0//EN
METHOD:PUBLISH
X-PUBLISHED-TTL:P3D
REFRESH-INTERVAL:P3D
CALSCALE:GREGORIAN
BEGIN:VEVENT
DTSTART:20071018T000000Z
DTEND:20071017T170000Z
X-MICROSOFT-CDO-ALLDAYEVENT:FALSE
SUMMARY:Preserving Family History: Minnesota's Greatest Generation
DESCRIPTION:Get tips on preserving your family's heirlooms\, papers and photos for future generation and learn hints for creating an oral family history.  Bring your item to ask Bob Herskovitz\, an expert from the Minnesota Historical Society\, about preservation.  No appraisals will be given.  www.mnhs.orgDate:   Wednesday\, October 17\, 2007Time:   7:00 p.m.Place:  Northwoods Bank Community Room            Highway 34 East\, Park RapidsCost:    Free WorkshopContact:Karen @ 218-732-0143 The Hubbard County Historical Society was established in 1893.  We are a non-profit group that operates the Hubbard County Historical Museum.  This provides a historical setting to educate the public and display our county's heritage through the generous donations of community residents past and present.  We collect\, preserve and share the stories of our past through the museums exhibits\, its collections\, the Ira Benham Resource Center and educational programs through out the area.
X-ALT-DESC;FMTTYPE=text/html:<div>Get tips on preserving your family's heirlooms\, papers and photos for future generation and learn hints for creating an oral family history.&nbsp\; Bring your item to ask Bob Herskovitz\, an expert from the Minnesota Historical Society\, about preservation.&nbsp\; No appraisals will be given.&nbsp\; <a onclick="return top.js.OpenExtLink(window\,event\,this)" href="http://www.mnhs.org/" target="_blank">www.mnhs.org</a></div><div>Date:&nbsp\;&nbsp\; Wednesday\, October 17\, 2007</div><div>Time:&nbsp\;&nbsp\; 7:00 p.m.</div><div>Place:&nbsp\;&nbsp\;Northwoods Bank Community Room</div><div>&nbsp\;&nbsp\;&nbsp\;&nbsp\;&nbsp\;&nbsp\;&nbsp\;&nbsp\;&nbsp\;&nbsp\;&nbsp\; Highway 34 East\, Park Rapids</div><div>Cost:&nbsp\;&nbsp\;&nbsp\; Free Workshop</div><div>Contact:Karen @ 218-732-0143</div><div>&nbsp\;</div><div>The Hubbard County Historical Society was established in 1893.&nbsp\; We are a non-profit group that&nbsp\;operates the Hubbard County Historical Museum.&nbsp\; This provides a historical setting to educate the public and display our county's heritage through the generous donations of&nbsp\;community residents past and present. &nbsp\;We collect\, preserve and share the stories of our past through the museums exhibits\, its collections\, the Ira Benham Resource Center and educational programs through out the area.</div><script type="text/javascript"><!--\nD(["ce"])\;\n\n//--></script>
LOCATION:Northwoods Bank Community RoomHighway 34 East\, Park Rapids
UID:e.91.324
SEQUENCE:3
DTSTAMP:20260419T124624Z
URL:https://business.parkrapids.com/events/details/preserving-family-history-minnesota-s-greatest-generation-10-17-2007-324
END:VEVENT

END:VCALENDAR
