BEGIN:VCALENDAR
VERSION:2.0
PRODID:-//ChamberMaster//Event Calendar 2.0//EN
METHOD:PUBLISH
X-PUBLISHED-TTL:P3D
REFRESH-INTERVAL:P3D
CALSCALE:GREGORIAN
BEGIN:VEVENT
DTSTART;VALUE=DATE:20070610
DTEND;VALUE=DATE:20070611
TRANSP:TRANSPARENT
X-MICROSOFT-CDO-ALLDAYEVENT:TRUE
SUMMARY:Red Bridge Run
DESCRIPTION:Professional and Citizen Canoe Race.  Fun to participate\, fun to watch!  Participants will enjoy the beauty of the river as they compete for prizes!  Tee-shirts for those entered by June 1st.  Dinner provided after the awards ceremony for participants and volunteers.
X-ALT-DESC;FMTTYPE=text/html:Professional and Citizen Canoe Race.  Fun to participate\, fun to watch!  Participants will enjoy the beauty of the river as they compete for prizes!  Tee-shirts for those entered by June 1st.  Dinner provided after the awards ceremony for participants and volunteers.
LOCATION:Red Bridge Inn & the Fish Hook River
UID:e.91.281
SEQUENCE:3
DTSTAMP:20260419T193649Z
URL:https://business.parkrapids.com/events/details/red-bridge-run-06-10-2007-281
END:VEVENT

END:VCALENDAR
