BEGIN:VCALENDAR
VERSION:2.0
PRODID:-//ChamberMaster//Event Calendar 2.0//EN
METHOD:PUBLISH
X-PUBLISHED-TTL:P3D
REFRESH-INTERVAL:P3D
CALSCALE:GREGORIAN
BEGIN:VEVENT
DTSTART:20070615T050000Z
DTEND:20070615T050000Z
X-MICROSOFT-CDO-ALLDAYEVENT:FALSE
SUMMARY:Relay for Life
DESCRIPTION:Cancer Survivors\, family members\, and volunteers pace the track in an effort to raise money for cancer research. 1 p.m. - 1 a.m.
X-ALT-DESC;FMTTYPE=text/html:Cancer Survivors\, family members\, and volunteers pace the track in an effort to raise money for cancer research. 1 p.m. - 1 a.m. 
LOCATION:Park Rapids Highschool Track
UID:e.91.38
SEQUENCE:3
DTSTAMP:20260419T193743Z
URL:https://business.parkrapids.com/events/details/relay-for-life-06-15-2007-38
END:VEVENT

END:VCALENDAR
