BEGIN:VCALENDAR
VERSION:2.0
PRODID:-//ChamberMaster//Event Calendar 2.0//EN
METHOD:PUBLISH
X-PUBLISHED-TTL:P3D
REFRESH-INTERVAL:P3D
CALSCALE:GREGORIAN
BEGIN:VEVENT
DTSTART;VALUE=DATE:20230304
DTEND;VALUE=DATE:20230305
TRANSP:TRANSPARENT
X-MICROSOFT-CDO-ALLDAYEVENT:TRUE
SUMMARY:Revels Open Mic Night
DESCRIPTION:Open mic time. Slap da bass\, sing us a song\, tell us a joke\, whatever it is we are so ready to jam with you!\n\n Hosted by Kelly Reller
X-ALT-DESC;FMTTYPE=text/html:<div class="x11i5rnm xat24cr x1mh8g0r x1vvkbs xdj266r" style="margin: 0px\; overflow-wrap: break-word\; font-family: &quot\;Segoe UI Historic&quot\;\, &quot\;Segoe UI&quot\;\, Helvetica\, Arial\, sans-serif\; color: rgb(5\, 5\, 5)\; font-size: 15px\;">Open mic time. Slap da bass\, sing us a song\, tell us a joke\, whatever it is we are so ready to jam with you!</div>\n\n<div class="x11i5rnm xat24cr x1mh8g0r x1vvkbs xtlvy1s" style="margin: 0.5em 0px 0px\; overflow-wrap: break-word\; font-family: &quot\;Segoe UI Historic&quot\;\, &quot\;Segoe UI&quot\;\, Helvetica\, Arial\, sans-serif\; color: rgb(5\, 5\, 5)\; font-size: 15px\;">&mdash\;Hosted by Kelly Reller&mdash\;</div>\n
LOCATION:Revel Brewing Park Rapids
UID:e.91.41319
SEQUENCE:3
DTSTAMP:20260424T145125Z
URL:https://business.parkrapids.com/events/details/revels-open-mic-night-41319
END:VEVENT

END:VCALENDAR
