BEGIN:VCALENDAR
VERSION:2.0
PRODID:-//ChamberMaster//Event Calendar 2.0//EN
METHOD:PUBLISH
X-PUBLISHED-TTL:P3D
REFRESH-INTERVAL:P3D
CALSCALE:GREGORIAN
BEGIN:VEVENT
DTSTART:20061020T050000Z
DTEND:20061020T050000Z
X-MICROSOFT-CDO-ALLDAYEVENT:FALSE
SUMMARY:Rib Dinner & Silent Auction Fundraiser
DESCRIPTION:
X-ALT-DESC;FMTTYPE=text/html:
LOCATION:Park Rapids American Legion
UID:e.91.92
SEQUENCE:3
DTSTAMP:20260420T104016Z
URL:https://business.parkrapids.com/events/details/rib-dinner-silent-auction-fundraiser-10-20-2006-92
END:VEVENT

END:VCALENDAR
